BEGIN:VCALENDAR
VERSION:2.0
PRODID:-//evstadtakademie//stadtakademie-muenchen.de//DE
METHOD:PUBLISH
CALSCALE:GREGORIAN
BEGIN:VEVENT
UID:19839@stadtakademie-muenchen.de
DTSTAMP:20260424T084422
DTSTART:20260428T190000
DTEND:20260519T203000
SUMMARY:Den Rucksack packen für die letzte Reise - In Achtsamkeit und Würde älter werden (Teil V)
LOCATION:Online via Zoom
DESCRIPTION:Details unter https://www.stadtakademie-muenchen.de/veranstaltung/den-rucksack-packen-fuer-die-letzte-reise-teil-v/
END:VEVENT
END:VCALENDAR