BEGIN:VCALENDAR
VERSION:2.0
PRODID:-//evstadtakademie//stadtakademie-muenchen.de//DE
METHOD:PUBLISH
CALSCALE:GREGORIAN
BEGIN:VEVENT
UID:19833@stadtakademie-muenchen.de
DTSTAMP:20260421T170301
DTSTART:20260303T190000
DTEND:20260324T203000
SUMMARY:Beziehungen entlasten - In Achtsamkeit und Würde älter werden (Teil IV)
LOCATION:Online via Zoom
DESCRIPTION:Details unter https://www.stadtakademie-muenchen.de/veranstaltung/beziehungen-entlasten-teil-iv/
END:VEVENT
END:VCALENDAR