BEGIN:VCALENDAR
VERSION:2.0
PRODID:-//evstadtakademie//stadtakademie-muenchen.de//DE
METHOD:PUBLISH
CALSCALE:GREGORIAN
BEGIN:VEVENT
UID:19821@stadtakademie-muenchen.de
DTSTAMP:20260422T083911
DTSTART:20251126T190000
DTEND:20251126T210000
SUMMARY:Münchner Wohnungsbau in der Falle - Auf der Suche nach kreativen Konzepten und mutigen Entscheidungen
LOCATION:Evangelische Stadtakademie, Herzog-Wilhelm-Str. 24, 80331 München
DESCRIPTION:Details unter https://www.stadtakademie-muenchen.de/veranstaltung/muenchner-wohnungsbau-in-der-falle/
END:VEVENT
END:VCALENDAR