BEGIN:VCALENDAR
VERSION:2.0
PRODID:-//evstadtakademie//stadtakademie-muenchen.de//DE
METHOD:PUBLISH
CALSCALE:GREGORIAN
BEGIN:VEVENT
UID:19556@stadtakademie-muenchen.de
DTSTAMP:20260421T120148
DTSTART:20260205T190000
DTEND:20260205T203000
SUMMARY:Zerstörungslust - Warum der selbstgewählte Faschismus so viel Zuspruch erfährt
LOCATION:Online via Zoom
DESCRIPTION:Details unter https://www.stadtakademie-muenchen.de/veranstaltung/zerstoerungslust/
END:VEVENT
END:VCALENDAR