BEGIN:VCALENDAR
VERSION:2.0
PRODID:-//evstadtakademie//stadtakademie-muenchen.de//DE
METHOD:PUBLISH
CALSCALE:GREGORIAN
BEGIN:VEVENT
UID:19368@stadtakademie-muenchen.de
DTSTAMP:20260419T131822
DTSTART:20251017T190000
DTEND:20251017T203000
SUMMARY:Wo der Code auf Herz und Seele trifft - KI und Spiritualität
LOCATION:Spirituelles Zentrum St. Martin, Arndtstr. 8, Rgb., 80469 München
DESCRIPTION:Details unter https://www.stadtakademie-muenchen.de/veranstaltung/wo-der-code-auf-herz-und-seele-trifft/
END:VEVENT
END:VCALENDAR