BEGIN:VCALENDAR
VERSION:2.0
PRODID:-//evstadtakademie//stadtakademie-muenchen.de//DE
METHOD:PUBLISH
CALSCALE:GREGORIAN
BEGIN:VEVENT
UID:19172@stadtakademie-muenchen.de
DTSTAMP:20260424T120900
DTSTART:20251108T153000
DTEND:20251108T235900
SUMMARY:City in the Cloud: Data on the Ground - Das Ewige im Jetzt
LOCATION:Pinakothek der Moderne (Rotunde), Barer Straße 40, 80333 München
DESCRIPTION:Details unter https://www.stadtakademie-muenchen.de/veranstaltung/city-in-the-cloud-data-on-the-ground/
END:VEVENT
END:VCALENDAR