BEGIN:VCALENDAR
VERSION:2.0
PRODID:-//evstadtakademie//stadtakademie-muenchen.de//DE
METHOD:PUBLISH
CALSCALE:GREGORIAN
BEGIN:VEVENT
UID:18995@stadtakademie-muenchen.de
DTSTAMP:20260419T123605
DTSTART:20251017T100000
DTEND:20251031T120000
SUMMARY:Philosophieren im Hospiz: Von der Sorge um sich selbst und andere - Beginn der dreiteiligen Gesprächsreihe
LOCATION:Christophorus Hospiz, Effnerstraße 93, 81925 München
DESCRIPTION:Details unter https://www.stadtakademie-muenchen.de/veranstaltung/philosophieren-im-hospiz-von-der-sorge-um-sich-selbst-und-andere-2/
END:VEVENT
END:VCALENDAR