BEGIN:VCALENDAR
VERSION:2.0
PRODID:-//evstadtakademie//stadtakademie-muenchen.de//DE
METHOD:PUBLISH
CALSCALE:GREGORIAN
BEGIN:VEVENT
UID:18927@stadtakademie-muenchen.de
DTSTAMP:20260421T165855
DTSTART:20260207T093000
DTEND:20260207T183000
SUMMARY:55plus: die besten Berufsjahre gestalten
LOCATION:Evangelische Stadtakademie München, Herzog-Wilhelm-Str. 24, 80331 München
DESCRIPTION:Details unter https://www.stadtakademie-muenchen.de/veranstaltung/55plus-die-besten-berufsjahre-gestalten-5/
END:VEVENT
END:VCALENDAR