BEGIN:VCALENDAR
VERSION:2.0
PRODID:-//evstadtakademie//stadtakademie-muenchen.de//DE
METHOD:PUBLISH
CALSCALE:GREGORIAN
BEGIN:VEVENT
UID:18679@stadtakademie-muenchen.de
DTSTAMP:20260419T122204
DTSTART:20250625T173000
DTEND:20250625T183000
SUMMARY:Fake News - Eröffnung der interaktiven Ausstellung
LOCATION:Evangelische Stadtakademie, Herzog-Wilhelm-Str. 24, 80331 München
DESCRIPTION:Details unter https://www.stadtakademie-muenchen.de/veranstaltung/fake-news/
END:VEVENT
END:VCALENDAR