BEGIN:VCALENDAR
VERSION:2.0
PRODID:-//evstadtakademie//stadtakademie-muenchen.de//DE
METHOD:PUBLISH
CALSCALE:GREGORIAN
BEGIN:VEVENT
UID:18594@stadtakademie-muenchen.de
DTSTAMP:20260421T104003
DTSTART:20251011T093000
DTEND:20251011T163000
SUMMARY:Das Undenkbare tun - Möglichkeiten sehen - Potenziale nutzen (Vertiefungsworkshop)
LOCATION:Evangelische Stadtakademie, Herzog-Wilhelm-Str. 24, 80331 München
DESCRIPTION:Details unter https://www.stadtakademie-muenchen.de/veranstaltung/das-undenkbare-tun-3/
END:VEVENT
END:VCALENDAR