BEGIN:VCALENDAR
VERSION:2.0
PRODID:-//evstadtakademie//stadtakademie-muenchen.de//DE
METHOD:PUBLISH
CALSCALE:GREGORIAN
BEGIN:VEVENT
UID:18578@stadtakademie-muenchen.de
DTSTAMP:20260425T104313
DTSTART:20250520T190000
DTEND:20250520T203000
SUMMARY:Die Formel des Widerstands - Wie Kernphysiker mithalfen, die Atombombe der Nazis zu verhindern
LOCATION:Evangelische Stadtakademie, Herzog-Wilhelm-Str. 24, 80331 München
DESCRIPTION:Details unter https://www.stadtakademie-muenchen.de/veranstaltung/die-formel-des-widerstandes/
END:VEVENT
END:VCALENDAR