BEGIN:VCALENDAR
VERSION:2.0
PRODID:-//evstadtakademie//stadtakademie-muenchen.de//DE
METHOD:PUBLISH
CALSCALE:GREGORIAN
BEGIN:VEVENT
UID:18273@stadtakademie-muenchen.de
DTSTAMP:20260419T122330
DTSTART:20250430T190000
DTEND:20250430T203000
SUMMARY:Die solare Weltrevolution - Das Solarzeitalter beginnt - Die Sonne gewinnt
LOCATION:Livestream bzw. Evangelische Stadtakademie, Herzog-Wilhelm-Str. 24, 80331 München
DESCRIPTION:Details unter https://www.stadtakademie-muenchen.de/veranstaltung/die-solare-weltrevolution/
END:VEVENT
END:VCALENDAR