BEGIN:VCALENDAR
VERSION:2.0
PRODID:-//evstadtakademie//stadtakademie-muenchen.de//DE
METHOD:PUBLISH
CALSCALE:GREGORIAN
BEGIN:VEVENT
UID:17988@stadtakademie-muenchen.de
DTSTAMP:20260419T202201
DTSTART:20250605T190000
DTEND:20250605T203000
SUMMARY:Eisiges Schweigen flussabwärts - Beobachtungen entlang des neuen Eisernen Vorhangs
LOCATION:Evangelische Stadtakademie, Herzog-Wilhelm-Str. 24, 80331 München
DESCRIPTION:Details unter https://www.stadtakademie-muenchen.de/veranstaltung/eisiges-schweigen-flussabwaerts/
END:VEVENT
END:VCALENDAR