BEGIN:VCALENDAR
VERSION:2.0
PRODID:-//evstadtakademie//stadtakademie-muenchen.de//DE
METHOD:PUBLISH
CALSCALE:GREGORIAN
BEGIN:VEVENT
UID:16822@stadtakademie-muenchen.de
DTSTAMP:20260422T183846
DTSTART:20250120T191500
DTEND:20250120T210000
SUMMARY:Freiraum, Selbstfürsorge, Nähe und Intimität - Männerpalaver zum Thema Partnerschaft
LOCATION:Evangelische Stadtakademie, Herzog-Wilhelm-Str. 24, 80331 München
DESCRIPTION:Details unter https://www.stadtakademie-muenchen.de/veranstaltung/freiraum-selbstfuersorge-naehe-und-intimitaet/
END:VEVENT
END:VCALENDAR