BEGIN:VCALENDAR
VERSION:2.0
PRODID:-//evstadtakademie//stadtakademie-muenchen.de//DE
METHOD:PUBLISH
CALSCALE:GREGORIAN
BEGIN:VEVENT
UID:15782@stadtakademie-muenchen.de
DTSTAMP:20260422T124917
DTSTART:20240425T190000
DTEND:20240425T210000
SUMMARY:Immobilienmonopoly in München - Ursachen, Folgen und Lösungsansätze der Immobilienkrise
LOCATION:Evangelische Stadtakademie, Herzog-Wilhelm-Str. 24, 80331 München
DESCRIPTION:Details unter https://www.stadtakademie-muenchen.de/veranstaltung/immobilienmonopoly-in-muenchen/
END:VEVENT
END:VCALENDAR