BEGIN:VCALENDAR
VERSION:2.0
PRODID:-//evstadtakademie//stadtakademie-muenchen.de//DE
METHOD:PUBLISH
CALSCALE:GREGORIAN
BEGIN:VEVENT
UID:15466@stadtakademie-muenchen.de
DTSTAMP:20260419T122210
DTSTART:20240622T090000
DTEND:20240622T170000
SUMMARY:Auf Pilgerpfaden neue Wege finden! - Orientierung bei der Studien- und Berufswahl
LOCATION:Marienplatz (Treffpunkt Mariensäule) bis Kloster Schäftlarn
DESCRIPTION:Details unter https://www.stadtakademie-muenchen.de/veranstaltung/auf-pilgerpfaden-neue-wege-finden/
END:VEVENT
END:VCALENDAR