BEGIN:VCALENDAR
VERSION:2.0
PRODID:-//evstadtakademie//stadtakademie-muenchen.de//DE
METHOD:PUBLISH
CALSCALE:GREGORIAN
BEGIN:VEVENT
UID:15368@stadtakademie-muenchen.de
DTSTAMP:20260419T122335
DTSTART:20240418T193000
DTEND:20240418T213000
SUMMARY:Sing Mit! - Chor - Einfach singen
LOCATION:St. Markus, Gabelsbergerstr. 6, 80333 München
DESCRIPTION:Details unter https://www.stadtakademie-muenchen.de/veranstaltung/sing-mit-chor-3/
END:VEVENT
END:VCALENDAR