BEGIN:VCALENDAR
VERSION:2.0
PRODID:-//evstadtakademie//stadtakademie-muenchen.de//DE
METHOD:PUBLISH
CALSCALE:GREGORIAN
BEGIN:VEVENT
UID:15273@stadtakademie-muenchen.de
DTSTAMP:20260422T124542
DTSTART:20240408T190000
DTEND:20240408T203000
SUMMARY:Künstliche Intelligenz - Was sie kann und was uns erwartet
LOCATION:Online via Zoom
DESCRIPTION:Details unter https://www.stadtakademie-muenchen.de/veranstaltung/kuenstliche-intelligenz/
END:VEVENT
END:VCALENDAR