BEGIN:VCALENDAR
VERSION:2.0
PRODID:-//evstadtakademie//stadtakademie-muenchen.de//DE
METHOD:PUBLISH
CALSCALE:GREGORIAN
BEGIN:VEVENT
UID:15098@stadtakademie-muenchen.de
DTSTAMP:20260420T044652
DTSTART:20240207T193000
DTEND:20240207T204500
SUMMARY:Infoabend: LUV. Erlebe Inspiration, Tiefe & Leichtigkeit - In 6 Workshop-Einheiten tiefer in das Leben eintauchen
LOCATION:online
DESCRIPTION:Details unter https://www.stadtakademie-muenchen.de/veranstaltung/infoabend-luv-erlebe-inspiration-tiefe-leichtigkeit/
END:VEVENT
END:VCALENDAR