BEGIN:VCALENDAR
VERSION:2.0
PRODID:-//evstadtakademie//stadtakademie-muenchen.de//DE
METHOD:PUBLISH
CALSCALE:GREGORIAN
BEGIN:VEVENT
UID:15050@stadtakademie-muenchen.de
DTSTAMP:20260420T044958
DTSTART:20240221T193000
DTEND:20240327T203000
SUMMARY:LUV. Erlebe Inspiration, Tiefe & Leichtigkeit - In 6 Workshop-Einheiten tiefer in das Leben eintauchen
LOCATION:online
DESCRIPTION:Details unter https://www.stadtakademie-muenchen.de/veranstaltung/luv-erlebe-inspiration-tiefe-leichtigkeit/
END:VEVENT
END:VCALENDAR