BEGIN:VCALENDAR
VERSION:2.0
PRODID:-//evstadtakademie//stadtakademie-muenchen.de//DE
METHOD:PUBLISH
CALSCALE:GREGORIAN
BEGIN:VEVENT
UID:14927@stadtakademie-muenchen.de
DTSTAMP:20260419T143103
DTSTART:20240219T183000
DTEND:20240219T213000
SUMMARY:Atelier der Achtsamkeit - Wie du deine Achtsamkeitspraxis kreativ ausüben und in deinen Alltag integrieren kannst
LOCATION:Evangelische Stadtakademie, Herzog-Wilhelm-Str. 24, 80331 München
DESCRIPTION:Details unter https://www.stadtakademie-muenchen.de/veranstaltung/atelier-der-achtsamkeit/
END:VEVENT
END:VCALENDAR