BEGIN:VCALENDAR
VERSION:2.0
PRODID:-//evstadtakademie//stadtakademie-muenchen.de//DE
METHOD:PUBLISH
CALSCALE:GREGORIAN
BEGIN:VEVENT
UID:14681@stadtakademie-muenchen.de
DTSTAMP:20260423T090345
DTSTART:20231030T190000
DTEND:20231030T235900
SUMMARY:Brennpunkt Nahost - Regionale Einordnung und internationale Perspektiven zum Nahostkonflikt
LOCATION:Online via Zoom,  München
DESCRIPTION:Details unter https://www.stadtakademie-muenchen.de/veranstaltung/brennpunkt-nahost/
END:VEVENT
END:VCALENDAR