BEGIN:VCALENDAR
VERSION:2.0
PRODID:-//evstadtakademie//stadtakademie-muenchen.de//DE
METHOD:PUBLISH
CALSCALE:GREGORIAN
BEGIN:VEVENT
UID:14170@stadtakademie-muenchen.de
DTSTAMP:20260421T104730
DTSTART:20240129T191500
DTEND:20240129T235900
SUMMARY:Der Wettbewerber - Männerpalaver zu "RollenErwartungen"
LOCATION:Evangelische Stadtakademie, Herzog-Wilhelm-Str. 24, 80331 München
DESCRIPTION:Details unter https://www.stadtakademie-muenchen.de/veranstaltung/der-wettbewerber/
END:VEVENT
END:VCALENDAR