BEGIN:VCALENDAR
VERSION:2.0
PRODID:-//evstadtakademie//stadtakademie-muenchen.de//DE
METHOD:PUBLISH
CALSCALE:GREGORIAN
BEGIN:VEVENT
UID:14003@stadtakademie-muenchen.de
DTSTAMP:20260419T134833
DTSTART:20231106T190000
DTEND:20231106T235900
SUMMARY:Gott und die Welt - Zur politischen Theologie des Judentums
LOCATION:Livestream bzw. Evangelische Stadtakademie, Herzog-Wilhelm-Str. 24, 80331 München
DESCRIPTION:Details unter https://www.stadtakademie-muenchen.de/veranstaltung/gott-und-die-welt/
END:VEVENT
END:VCALENDAR