BEGIN:VCALENDAR
VERSION:2.0
PRODID:-//evstadtakademie//stadtakademie-muenchen.de//DE
METHOD:PUBLISH
CALSCALE:GREGORIAN
BEGIN:VEVENT
UID:13889@stadtakademie-muenchen.de
DTSTAMP:20260421T091503
DTSTART:20231005T190000
DTEND:20231005T235900
SUMMARY:Adenauers Watergate - Die Geheimoperation des BND gegen die SPD-Spitze
LOCATION:Evangelische Stadtakademie, Herzog-Wilhelm-Str. 24, 80331 München
DESCRIPTION:Details unter https://www.stadtakademie-muenchen.de/veranstaltung/adenauers-watergate/
END:VEVENT
END:VCALENDAR