BEGIN:VCALENDAR
VERSION:2.0
PRODID:-//evstadtakademie//stadtakademie-muenchen.de//DE
METHOD:PUBLISH
CALSCALE:GREGORIAN
BEGIN:VEVENT
UID:13604@stadtakademie-muenchen.de
DTSTAMP:20260419T122138
DTSTART:20231013T100000
DTEND:20231027T120000
SUMMARY:Sterben lernen - Philosophische Bausteine einer zeitgemäßen ars moriendi
LOCATION:Christopherus-Hospiz, Effnerstr. 93,  München
DESCRIPTION:Details unter https://www.stadtakademie-muenchen.de/veranstaltung/sterben-lernen-3/
END:VEVENT
END:VCALENDAR