BEGIN:VCALENDAR
VERSION:2.0
PRODID:-//evstadtakademie//stadtakademie-muenchen.de//DE
METHOD:PUBLISH
CALSCALE:GREGORIAN
BEGIN:VEVENT
UID:13464@stadtakademie-muenchen.de
DTSTAMP:20260423T104830
DTSTART:20230401T100000
DTEND:20230401T113000
SUMMARY:Stellung beziehen gegen Stammtischparolen - Tipps für den Alltag
LOCATION:Online via Zoom
DESCRIPTION:Details unter https://www.stadtakademie-muenchen.de/veranstaltung/stellung-beziehen-gegen-stammtischparolen/
END:VEVENT
END:VCALENDAR