BEGIN:VCALENDAR
VERSION:2.0
PRODID:-//evstadtakademie//stadtakademie-muenchen.de//DE
METHOD:PUBLISH
CALSCALE:GREGORIAN
BEGIN:VEVENT
UID:13314@stadtakademie-muenchen.de
DTSTAMP:20260422T125107
DTSTART:20230708T100000
DTEND:20230708T180000
SUMMARY:Loslassen - aber wie? - Innere Ruhe durch Kontakt mit sich selbst
LOCATION:Evangelische Stadtakademie, Herzog-Wilhelm-Str. 24, 80331 München
DESCRIPTION:Details unter https://www.stadtakademie-muenchen.de/veranstaltung/loslassen-aber-wie-2/
END:VEVENT
END:VCALENDAR