BEGIN:VCALENDAR
VERSION:2.0
PRODID:-//evstadtakademie//stadtakademie-muenchen.de//DE
METHOD:PUBLISH
CALSCALE:GREGORIAN
BEGIN:VEVENT
UID:13312@stadtakademie-muenchen.de
DTSTAMP:20260422T124717
DTSTART:20230707T153000
DTEND:20230707T235900
SUMMARY:Obersendling Südseite - Übergänge gestalten I
LOCATION:Treffpunkt: 15:30 Uhr an der Passionskirche, Tölzer Str. 17, 81379 München
DESCRIPTION:Details unter https://www.stadtakademie-muenchen.de/veranstaltung/obersendling-suedseite/
END:VEVENT
END:VCALENDAR