BEGIN:VCALENDAR
VERSION:2.0
PRODID:-//evstadtakademie//stadtakademie-muenchen.de//DE
METHOD:PUBLISH
CALSCALE:GREGORIAN
BEGIN:VEVENT
UID:13300@stadtakademie-muenchen.de
DTSTAMP:20260421T090619
DTSTART:20230505T193000
DTEND:20230506T220000
SUMMARY:Begeisterung und Enthusiasmus: Über die Freude am Leben - Seminar, Texte, Austausch
LOCATION:Online via Zoom
DESCRIPTION:Details unter https://www.stadtakademie-muenchen.de/veranstaltung/begeisterung-und-enthusiasmus-ueber-die-freude-am-leben/
END:VEVENT
END:VCALENDAR