BEGIN:VCALENDAR
VERSION:2.0
PRODID:-//evstadtakademie//stadtakademie-muenchen.de//DE
METHOD:PUBLISH
CALSCALE:GREGORIAN
BEGIN:VEVENT
UID:13282@stadtakademie-muenchen.de
DTSTAMP:20260422T124624
DTSTART:20230627T190000
DTEND:20230627T235900
SUMMARY:Der Krieg und die Demokratie - Thesen zu einer (neuen) Verhältnisbestimmung
LOCATION:Online via Zoom
DESCRIPTION:Details unter https://www.stadtakademie-muenchen.de/veranstaltung/der-krieg-und-die-demokratie/
END:VEVENT
END:VCALENDAR