BEGIN:VCALENDAR
VERSION:2.0
PRODID:-//evstadtakademie//stadtakademie-muenchen.de//DE
METHOD:PUBLISH
CALSCALE:GREGORIAN
BEGIN:VEVENT
UID:13270@stadtakademie-muenchen.de
DTSTAMP:20260419T145146
DTSTART:20230620T180000
DTEND:20230620T235900
SUMMARY:Kein Prosit der Gemütlichkeit? - Über die Zukunft des Gastgewerbes: Ein Feierabendgespräch mit Angela Inselkammer
LOCATION:Evangelische Stadtakademie, Herzog-Wilhelm-Str. 24, 80331 München
DESCRIPTION:Details unter https://www.stadtakademie-muenchen.de/veranstaltung/kein-prosit-der-gemuetlichkeit/
END:VEVENT
END:VCALENDAR