BEGIN:VCALENDAR
VERSION:2.0
PRODID:-//evstadtakademie//stadtakademie-muenchen.de//DE
METHOD:PUBLISH
CALSCALE:GREGORIAN
BEGIN:VEVENT
UID:13261@stadtakademie-muenchen.de
DTSTAMP:20260422T125506
DTSTART:20230613T190000
DTEND:20230613T235900
SUMMARY:Jenseits von Putin - Einblicke in die Russische Gesellschaft
LOCATION:Livestream bzw. Evangelische Stadtakademie München, Herzog-Wilhelm-Str. 24, 80331 München
DESCRIPTION:Details unter https://www.stadtakademie-muenchen.de/veranstaltung/jenseits-von-putin/
END:VEVENT
END:VCALENDAR