BEGIN:VCALENDAR
VERSION:2.0
PRODID:-//evstadtakademie//stadtakademie-muenchen.de//DE
METHOD:PUBLISH
CALSCALE:GREGORIAN
BEGIN:VEVENT
UID:13257@stadtakademie-muenchen.de
DTSTAMP:20260422T130931
DTSTART:20230525T190000
DTEND:20230525T235900
SUMMARY:Vom Unwesen des Bösen - Teil III: Warum lässt Gott Leid zu?
LOCATION:Evangelische Stadtakademie, Herzog-Wilhelm-Str. 24, 80331 München
DESCRIPTION:Details unter https://www.stadtakademie-muenchen.de/veranstaltung/vom-unwesen-des-boesen-3/
END:VEVENT
END:VCALENDAR