BEGIN:VCALENDAR
VERSION:2.0
PRODID:-//evstadtakademie//stadtakademie-muenchen.de//DE
METHOD:PUBLISH
CALSCALE:GREGORIAN
BEGIN:VEVENT
UID:13251@stadtakademie-muenchen.de
DTSTAMP:20260419T145822
DTSTART:20230523T190000
DTEND:20230523T235900
SUMMARY:Wir informieren uns zu Tode - Medien, Meinungen, Manipulation: Orientierung im Zeitalter der Verwirrung
LOCATION:Livestream bzw. Evangelische Stadtakademie München, Herzog-Wilhelm-Str. 24, 80331 München
DESCRIPTION:Details unter https://www.stadtakademie-muenchen.de/veranstaltung/wir-informieren-uns-zu-tode/
END:VEVENT
END:VCALENDAR