BEGIN:VCALENDAR
VERSION:2.0
PRODID:-//evstadtakademie//stadtakademie-muenchen.de//DE
METHOD:PUBLISH
CALSCALE:GREGORIAN
BEGIN:VEVENT
UID:13244@stadtakademie-muenchen.de
DTSTAMP:20260422T130306
DTSTART:20230420T190000
DTEND:20230420T235900
SUMMARY:Am Ende vereint? - Was Religionen über den Tod von Tier und Mensch zu sagen haben
LOCATION:Münchner Volkshochschule, Einsteinstr. 28, 81675 München, Vortragssaal 2
DESCRIPTION:Details unter https://www.stadtakademie-muenchen.de/veranstaltung/am-ende-vereint/
END:VEVENT
END:VCALENDAR