BEGIN:VCALENDAR
VERSION:2.0
PRODID:-//evstadtakademie//stadtakademie-muenchen.de//DE
METHOD:PUBLISH
CALSCALE:GREGORIAN
BEGIN:VEVENT
UID:13236@stadtakademie-muenchen.de
DTSTAMP:20260422T124830
DTSTART:20230517T000000
DTEND:20230521T235900
SUMMARY:Am Anfang war die Sehnsucht … - Pilgern zum Aufbrechen und Neues wagen
LOCATION:Pilgerweg
DESCRIPTION:Details unter https://www.stadtakademie-muenchen.de/veranstaltung/am-anfang-war-die-sehnsucht-2/
END:VEVENT
END:VCALENDAR