BEGIN:VCALENDAR
VERSION:2.0
PRODID:-//evstadtakademie//stadtakademie-muenchen.de//DE
METHOD:PUBLISH
CALSCALE:GREGORIAN
BEGIN:VEVENT
UID:13224@stadtakademie-muenchen.de
DTSTAMP:20260424T103143
DTSTART:20230510T190000
DTEND:20230510T235900
SUMMARY:Im Widerschein des Krieges: Nachdenken über Russland - Eine Spurensuche von Stalin bis Putin
LOCATION:Livestream bzw. Evangelische Stadtakademie München, Herzog-Wilhelm-Str. 24, 80331 München
DESCRIPTION:Details unter https://www.stadtakademie-muenchen.de/veranstaltung/im-widerschein-des-krieges-nachdenken-ueber-russland/
END:VEVENT
END:VCALENDAR