BEGIN:VCALENDAR
VERSION:2.0
PRODID:-//evstadtakademie//stadtakademie-muenchen.de//DE
METHOD:PUBLISH
CALSCALE:GREGORIAN
BEGIN:VEVENT
UID:13215@stadtakademie-muenchen.de
DTSTAMP:20260422T125343
DTSTART:20230507T090000
DTEND:20230507T180000
SUMMARY:Gegen den Strom - Pilgertag von München nach Schäftlarn
LOCATION:Pilgerweg
DESCRIPTION:Details unter https://www.stadtakademie-muenchen.de/veranstaltung/gegen-den-strom/
END:VEVENT
END:VCALENDAR