BEGIN:VCALENDAR
VERSION:2.0
PRODID:-//evstadtakademie//stadtakademie-muenchen.de//DE
METHOD:PUBLISH
CALSCALE:GREGORIAN
BEGIN:VEVENT
UID:13211@stadtakademie-muenchen.de
DTSTAMP:20260421T224143
DTSTART:20230506T153000
DTEND:20230506T235900
SUMMARY:"Alles bleibt anders" - von Oskar Kokoschka bis Andy Warhol - Das Ewige im Jetzt
LOCATION:St. Markus, dann Pinakothek der Moderne, Gabelsbergerstr. 6, 80333 München
DESCRIPTION:Details unter https://www.stadtakademie-muenchen.de/veranstaltung/alles-bleibt-anders-von-oskar-kokoschka-bis-andy-warhol/
END:VEVENT
END:VCALENDAR