BEGIN:VCALENDAR
VERSION:2.0
PRODID:-//evstadtakademie//stadtakademie-muenchen.de//DE
METHOD:PUBLISH
CALSCALE:GREGORIAN
BEGIN:VEVENT
UID:13202@stadtakademie-muenchen.de
DTSTAMP:20260422T125324
DTSTART:20230428T150000
DTEND:20230429T200000
SUMMARY:Hin- und hergerissen - Ambivalente Situationen verstehen und gestalten
LOCATION:Evangelische Stadtakademie, Herzog-Wilhelm-Str. 24, 80331 München
DESCRIPTION:Details unter https://www.stadtakademie-muenchen.de/veranstaltung/hin-und-hergerissen-2/
END:VEVENT
END:VCALENDAR