BEGIN:VCALENDAR
VERSION:2.0
PRODID:-//evstadtakademie//stadtakademie-muenchen.de//DE
METHOD:PUBLISH
CALSCALE:GREGORIAN
BEGIN:VEVENT
UID:13184@stadtakademie-muenchen.de
DTSTAMP:20260422T125020
DTSTART:20230414T100000
DTEND:20230428T120000
SUMMARY:Philosophieren im Hospiz: Mensch sein - Anlässlich 75 Jahre Erklärung der Menschenrechte
LOCATION:Christopherus-Hospiz, Effnerstraße 93, 81925 München
DESCRIPTION:Details unter https://www.stadtakademie-muenchen.de/veranstaltung/philosophieren-im-hospiz-mensch-sein/
END:VEVENT
END:VCALENDAR