BEGIN:VCALENDAR
VERSION:2.0
PRODID:-//evstadtakademie//stadtakademie-muenchen.de//DE
METHOD:PUBLISH
CALSCALE:GREGORIAN
BEGIN:VEVENT
UID:13178@stadtakademie-muenchen.de
DTSTAMP:20260422T125343
DTSTART:20230307T190000
DTEND:20230307T235900
SUMMARY:Heimliche Held*innen auf dem Jakobsweg - Eindrückliche Begegnungen beim Pilgern
LOCATION:Spirituelles Zentrum St. Martin, Arndtstr. 8, Rgb., 80469 München
DESCRIPTION:Details unter https://www.stadtakademie-muenchen.de/veranstaltung/101-dinge-die-man-ueber-den-jakobsweg-wissen-muss/
END:VEVENT
END:VCALENDAR