BEGIN:VCALENDAR
VERSION:2.0
PRODID:-//evstadtakademie//stadtakademie-muenchen.de//DE
METHOD:PUBLISH
CALSCALE:GREGORIAN
BEGIN:VEVENT
UID:13124@stadtakademie-muenchen.de
DTSTAMP:20260421T224511
DTSTART:20230304T153000
DTEND:20230304T235900
SUMMARY:Max Beckmann: Departure - Das Ewige im Jetzt
LOCATION:St. Markus, dann Pinakothek der Moderne, Gabelsbergerstr. 6, 80333 München
DESCRIPTION:Details unter https://www.stadtakademie-muenchen.de/veranstaltung/max-beckmann-departure/
END:VEVENT
END:VCALENDAR