BEGIN:VCALENDAR
VERSION:2.0
PRODID:-//evstadtakademie//stadtakademie-muenchen.de//DE
METHOD:PUBLISH
CALSCALE:GREGORIAN
BEGIN:VEVENT
UID:13104@stadtakademie-muenchen.de
DTSTAMP:20260423T213003
DTSTART:20230125T190000
DTEND:20230125T235900
SUMMARY:Charlotte Knobloch - Zeitzeuginnenabend
LOCATION:Jüdisches Museum München, St. Jakobs-Platz 16, 80331 München
DESCRIPTION:Details unter https://www.stadtakademie-muenchen.de/veranstaltung/charlotte-knobloch/
END:VEVENT
END:VCALENDAR