BEGIN:VCALENDAR
VERSION:2.0
PRODID:-//evstadtakademie//stadtakademie-muenchen.de//DE
METHOD:PUBLISH
CALSCALE:GREGORIAN
BEGIN:VEVENT
UID:13043@stadtakademie-muenchen.de
DTSTAMP:20260422T124738
DTSTART:20230503T183000
DTEND:20230503T210000
SUMMARY:Informationsveranstaltung MBSR-Acht-Wochen-Kurs - Stressbewältigung durch Achtsamkeit
LOCATION:Evangelische Stadtakademie, Herzog-Wilhelm-Str. 24, 80331 München
DESCRIPTION:Details unter https://www.stadtakademie-muenchen.de/veranstaltung/informationsveranstaltung-mbsr-acht-wochen-kurs-4/
END:VEVENT
END:VCALENDAR