BEGIN:VCALENDAR
VERSION:2.0
PRODID:-//evstadtakademie//stadtakademie-muenchen.de//DE
METHOD:PUBLISH
CALSCALE:GREGORIAN
BEGIN:VEVENT
UID:13032@stadtakademie-muenchen.de
DTSTAMP:20260422T125056
DTSTART:20230314T190000
DTEND:20230314T235900
SUMMARY:Grenzwertig - Was in der Debatte über Identitätspolitik, Rassismus und kulturelle Aneignung schiefläuft
LOCATION:Online via Zoom
DESCRIPTION:Details unter https://www.stadtakademie-muenchen.de/veranstaltung/grenzwertig/
END:VEVENT
END:VCALENDAR