BEGIN:VCALENDAR
VERSION:2.0
PRODID:-//evstadtakademie//stadtakademie-muenchen.de//DE
METHOD:PUBLISH
CALSCALE:GREGORIAN
BEGIN:VEVENT
UID:12893@stadtakademie-muenchen.de
DTSTAMP:20260422T125025
DTSTART:20230328T190000
DTEND:20230328T235900
SUMMARY:Kirche auf Russisch? - Zuwanderung verändert Kultur und Religion
LOCATION:Evangelisches Migrationszentrum im Griechischen Haus, Bergmannstraße 46, 80339 München
DESCRIPTION:Details unter https://www.stadtakademie-muenchen.de/veranstaltung/kirche-auf-russisch/
END:VEVENT
END:VCALENDAR