BEGIN:VCALENDAR
VERSION:2.0
PRODID:-//evstadtakademie//stadtakademie-muenchen.de//DE
METHOD:PUBLISH
CALSCALE:GREGORIAN
BEGIN:VEVENT
UID:12732@stadtakademie-muenchen.de
DTSTAMP:20260424T011126
DTSTART:20230228T190000
DTEND:20230228T235900
SUMMARY:Klima muss sich lohnen - Ökonomische Vernunft für ein gutes Gewissen
LOCATION:Online via Zoom
DESCRIPTION:Details unter https://www.stadtakademie-muenchen.de/veranstaltung/klima-muss-sich-lohnen/
END:VEVENT
END:VCALENDAR