BEGIN:VCALENDAR
VERSION:2.0
PRODID:-//evstadtakademie//stadtakademie-muenchen.de//DE
METHOD:PUBLISH
CALSCALE:GREGORIAN
BEGIN:VEVENT
UID:12718@stadtakademie-muenchen.de
DTSTAMP:20260424T011632
DTSTART:20230207T190000
DTEND:20230207T235900
SUMMARY:Der ganz normale Wahnsinn - Was der Seele bei psychischer Erkrankung hilft
LOCATION:Evangelische Stadtakademie, Herzog-Wilhelm-Str. 24, 80331 München
DESCRIPTION:Details unter https://www.stadtakademie-muenchen.de/veranstaltung/der-ganz-normale-wahnsinn/
END:VEVENT
END:VCALENDAR